BEGIN:VCALENDAR
VERSION:2.0
PRODID:-//Natick Pack 310 - ECPv6.15.20//NONSGML v1.0//EN
CALSCALE:GREGORIAN
METHOD:PUBLISH
X-WR-CALNAME:Natick Pack 310
X-ORIGINAL-URL:https://www.natickpack310.org
X-WR-CALDESC:Events for Natick Pack 310
REFRESH-INTERVAL;VALUE=DURATION:PT1H
X-Robots-Tag:noindex
X-PUBLISHED-TTL:PT1H
BEGIN:VTIMEZONE
TZID:America/New_York
BEGIN:DAYLIGHT
TZOFFSETFROM:-0500
TZOFFSETTO:-0400
TZNAME:EDT
DTSTART:20250309T070000
END:DAYLIGHT
BEGIN:STANDARD
TZOFFSETFROM:-0400
TZOFFSETTO:-0500
TZNAME:EST
DTSTART:20251102T060000
END:STANDARD
BEGIN:DAYLIGHT
TZOFFSETFROM:-0500
TZOFFSETTO:-0400
TZNAME:EDT
DTSTART:20260308T070000
END:DAYLIGHT
BEGIN:STANDARD
TZOFFSETFROM:-0400
TZOFFSETTO:-0500
TZNAME:EST
DTSTART:20261101T060000
END:STANDARD
BEGIN:DAYLIGHT
TZOFFSETFROM:-0500
TZOFFSETTO:-0400
TZNAME:EDT
DTSTART:20270314T070000
END:DAYLIGHT
BEGIN:STANDARD
TZOFFSETFROM:-0400
TZOFFSETTO:-0500
TZNAME:EST
DTSTART:20271107T060000
END:STANDARD
END:VTIMEZONE
BEGIN:VEVENT
DTSTART;TZID=America/New_York:20260509T100000
DTEND;TZID=America/New_York:20260509T140000
DTSTAMP:20260424T083009
CREATED:20260407T164942Z
LAST-MODIFIED:20260407T164942Z
UID:1990-1778320800-1778335200@www.natickpack310.org
SUMMARY:Farm Fest
DESCRIPTION:We will assist our chartered organization with activities and helping hands during their main springtime event.  Please wear your Class B (green shirt) or Lions shirt so you are comfortable.  Exact duties and shift info TBD. \nThis is a service project opportunity\, which all scouts need each year.
URL:https://www.natickpack310.org/event/farm-fest/
LOCATION:Natick Community Organic Farm\, 117 Eliot St\, Natick\, MA\, 01760\, United States
END:VEVENT
BEGIN:VEVENT
DTSTART;TZID=America/New_York:20260517T083000
DTEND;TZID=America/New_York:20260517T120000
DTSTAMP:20260424T083009
CREATED:20260407T165414Z
LAST-MODIFIED:20260407T165414Z
UID:1992-1779006600-1779019200@www.natickpack310.org
SUMMARY:PMC Kids Ride
DESCRIPTION:This service event supports Dana-Farber Cancer Institute.  Scouts need to register in advance and raise a minimum of $40 in donations.  Preparation and attendance can count towards both service requirements and the “rolling/bike” adventure for any den level.  Wear your Class B (green shirt). \n\n8:30 am: Registration\n10:30 am: After party hosted by Belkin Family Lookout Farm\nAges 2 to 13 (two separate courses by age and ability – see below)\nRegistration Fee: $20\nRequired Fundraising Commitment: $40\n\nRegister at the link below: \nhttps://kids.pmc.org/natick \n 
URL:https://www.natickpack310.org/event/pmc-kids-ride/
LOCATION:Belkin Family Lookout Farm\, 89 Pleasant St\, Natick\, MA\, 01760\, United States
END:VEVENT
BEGIN:VEVENT
DTSTART;TZID=America/New_York:20260521T183000
DTEND;TZID=America/New_York:20260521T200000
DTSTAMP:20260424T083009
CREATED:20250907T132228Z
LAST-MODIFIED:20250907T132414Z
UID:1777-1779388200-1779393600@www.natickpack310.org
SUMMARY:Pack Meeting
DESCRIPTION:
URL:https://www.natickpack310.org/event/pack-meeting-9/
LOCATION:MA
CATEGORIES:Pack Meetings
END:VEVENT
BEGIN:VEVENT
DTSTART;TZID=America/New_York:20260605T120000
DTEND;TZID=America/New_York:20260606T120000
DTSTAMP:20260424T083009
CREATED:20260409T134427Z
LAST-MODIFIED:20260409T134439Z
UID:2019-1780660800-1780747200@www.natickpack310.org
SUMMARY:Spring Campout - extra night for Webelos / AOLs only
DESCRIPTION:Webelo and AOL only – optional extra night of camping for those who would like to participate.
URL:https://www.natickpack310.org/event/spring-campout-extra-night-for-webelos-aols-only/
LOCATION:Camp Resolute\, 75 Hudson Road\, Bolton\, MA\, 01740
END:VEVENT
BEGIN:VEVENT
DTSTART;TZID=America/New_York:20260606T120000
DTEND;TZID=America/New_York:20260607T120000
DTSTAMP:20260424T083009
CREATED:20260409T133616Z
LAST-MODIFIED:20260409T134244Z
UID:2015-1780747200-1780833600@www.natickpack310.org
SUMMARY:Spring Campout - All Scouts
DESCRIPTION:Annual end-of-year campout! Scouts sleep in tents with parents; no non-scout siblings please.
URL:https://www.natickpack310.org/event/spring-campout/
LOCATION:Camp Resolute\, 75 Hudson Road\, Bolton\, MA\, 01740
END:VEVENT
BEGIN:VEVENT
DTSTART;VALUE=DATE:20260613
DTEND;VALUE=DATE:20260615
DTSTAMP:20260424T083009
CREATED:20260407T164324Z
LAST-MODIFIED:20260407T164324Z
UID:1982-1781308800-1781481599@www.natickpack310.org
SUMMARY:Scout Spring Overnight
DESCRIPTION:Scouts spend the night at the Ecotarium
URL:https://www.natickpack310.org/event/scout-spring-overnight/
LOCATION:Ecotarium\, 222 Harrington Way\, Worcester\, MA\, 01604\, United States
END:VEVENT
END:VCALENDAR